BEGIN:VCALENDAR
VERSION:2.0
PRODID:-//Black Bottom Gun Club - ECPv6.15.20//NONSGML v1.0//EN
CALSCALE:GREGORIAN
METHOD:PUBLISH
X-WR-CALNAME:Black Bottom Gun Club
X-ORIGINAL-URL:https://blackbottomgunclub.com
X-WR-CALDESC:Events for Black Bottom Gun Club
REFRESH-INTERVAL;VALUE=DURATION:PT1H
X-Robots-Tag:noindex
X-PUBLISHED-TTL:PT1H
BEGIN:VTIMEZONE
TZID:America/Detroit
BEGIN:DAYLIGHT
TZOFFSETFROM:-0500
TZOFFSETTO:-0400
TZNAME:EDT
DTSTART:20210314T070000
END:DAYLIGHT
BEGIN:STANDARD
TZOFFSETFROM:-0400
TZOFFSETTO:-0500
TZNAME:EST
DTSTART:20211107T060000
END:STANDARD
BEGIN:DAYLIGHT
TZOFFSETFROM:-0500
TZOFFSETTO:-0400
TZNAME:EDT
DTSTART:20220313T070000
END:DAYLIGHT
BEGIN:STANDARD
TZOFFSETFROM:-0400
TZOFFSETTO:-0500
TZNAME:EST
DTSTART:20221106T060000
END:STANDARD
BEGIN:DAYLIGHT
TZOFFSETFROM:-0500
TZOFFSETTO:-0400
TZNAME:EDT
DTSTART:20230312T070000
END:DAYLIGHT
BEGIN:STANDARD
TZOFFSETFROM:-0400
TZOFFSETTO:-0500
TZNAME:EST
DTSTART:20231105T060000
END:STANDARD
END:VTIMEZONE
BEGIN:VTIMEZONE
TZID:America/New_York
BEGIN:DAYLIGHT
TZOFFSETFROM:-0500
TZOFFSETTO:-0400
TZNAME:EDT
DTSTART:20210314T070000
END:DAYLIGHT
BEGIN:STANDARD
TZOFFSETFROM:-0400
TZOFFSETTO:-0500
TZNAME:EST
DTSTART:20211107T060000
END:STANDARD
BEGIN:DAYLIGHT
TZOFFSETFROM:-0500
TZOFFSETTO:-0400
TZNAME:EDT
DTSTART:20220313T070000
END:DAYLIGHT
BEGIN:STANDARD
TZOFFSETFROM:-0400
TZOFFSETTO:-0500
TZNAME:EST
DTSTART:20221106T060000
END:STANDARD
BEGIN:DAYLIGHT
TZOFFSETFROM:-0500
TZOFFSETTO:-0400
TZNAME:EDT
DTSTART:20230312T070000
END:DAYLIGHT
BEGIN:STANDARD
TZOFFSETFROM:-0400
TZOFFSETTO:-0500
TZNAME:EST
DTSTART:20231105T060000
END:STANDARD
END:VTIMEZONE
BEGIN:VEVENT
DTSTART;TZID=America/Detroit:20221022T180000
DTEND;TZID=America/Detroit:20221022T200000
DTSTAMP:20260420T035026
CREATED:20220821T212413Z
LAST-MODIFIED:20221016T212244Z
UID:1716-1666461600-1666468800@blackbottomgunclub.com
SUMMARY:Hold for Gun Safety Seminar (councilman Tate office)
DESCRIPTION:Join with Google Meet: https://meet.google.com/ajf-toij-xcc\nLearn more about Meet at: https://support.google.com/a/users/answer/9282720
URL:https://blackbottomgunclub.com/event/hold-for-gun-safety-seminar-councilman-tate-office/
ORGANIZER;CN="kofikenyatta@gmail.com":MAILTO:kofikenyatta@gmail.com
END:VEVENT
BEGIN:VEVENT
DTSTART;TZID=America/Detroit:20221020T200000
DTEND;TZID=America/Detroit:20221020T210000
DTSTAMP:20260420T035026
CREATED:20220724T210839Z
LAST-MODIFIED:20221016T212244Z
UID:1635-1666296000-1666299600@blackbottomgunclub.com
SUMMARY:Busy
DESCRIPTION:
URL:https://blackbottomgunclub.com/event/busy-69/
END:VEVENT
BEGIN:VEVENT
DTSTART;TZID=America/Detroit:20221018T140000
DTEND;TZID=America/Detroit:20221018T150000
DTSTAMP:20260420T035026
CREATED:20221002T212244Z
LAST-MODIFIED:20221016T212244Z
UID:1774-1666101600-1666105200@blackbottomgunclub.com
SUMMARY:Eye ultrasound 4th Blue
DESCRIPTION:
URL:https://blackbottomgunclub.com/event/eye-ultrasound-4th-blue/
END:VEVENT
BEGIN:VEVENT
DTSTART;TZID=America/Detroit:20221013T193000
DTEND;TZID=America/Detroit:20221013T203000
DTSTAMP:20260420T035026
CREATED:20220515T200851Z
LAST-MODIFIED:20221009T212247Z
UID:1500-1665689400-1665693000@blackbottomgunclub.com
SUMMARY:Busy
DESCRIPTION:
URL:https://blackbottomgunclub.com/event/busy-42/
END:VEVENT
BEGIN:VEVENT
DTSTART;TZID=America/Detroit:20221008T110000
DTEND;TZID=America/Detroit:20221008T130000
DTSTAMP:20260420T035026
CREATED:20220108T235846Z
LAST-MODIFIED:20221002T212246Z
UID:1274-1665226800-1665234000@blackbottomgunclub.com
SUMMARY:BBGC Monthly Meeting!!!
DESCRIPTION:Unless noted\, these are members only meetings. Please see the Zoom link and in person location details in your email.
URL:https://blackbottomgunclub.com/event/bbgc-monthly-meeting-9/
END:VEVENT
BEGIN:VEVENT
DTSTART;TZID=America/Detroit:20221006T190000
DTEND;TZID=America/Detroit:20221006T200000
DTSTAMP:20260420T035026
CREATED:20220108T235846Z
LAST-MODIFIED:20221002T212246Z
UID:1273-1665082800-1665086400@blackbottomgunclub.com
SUMMARY:Busy
DESCRIPTION:
URL:https://blackbottomgunclub.com/event/busy-18/
END:VEVENT
BEGIN:VEVENT
DTSTART;TZID=America/Detroit:20221004T180000
DTEND;TZID=America/Detroit:20221004T193000
DTSTAMP:20260420T035026
CREATED:20220911T212246Z
LAST-MODIFIED:20221002T212246Z
UID:1735-1664906400-1664911800@blackbottomgunclub.com
SUMMARY:Ceasefire Detroit Call-In
DESCRIPTION:Greetings\,\nThis message is to invite you the Ceasefire Detroit Call-In. During these meetings gang related invitees hear from law enforcement representatives\, service providers\, clergy/community leaders and community members who explain the impact violence has had in the community\, as well as the opportunities to move toward becoming productive citizens.\nThe Call-In is scheduled for Tuesday October 4\, 2022 at Second Ebenezer Church at 14601 Dequindre. Detroit\, MI. The meeting will begin at 6:00 pm and will last for approximately an hour and half.\nThank you for your continued support.\nKind Regards\,\nSheryl Jones\nDirector\, Detroit Youth Violence Prevention Initiative
URL:https://blackbottomgunclub.com/event/ceasefire-detroit-call-in/
LOCATION:Second Ebenezer Church at 14601 Dequindre. Detroit\, MI
ORGANIZER;CN="SHERYL JONES 001":MAILTO:joness001@detroitmi.gov
END:VEVENT
BEGIN:VEVENT
DTSTART;TZID=America/Detroit:20221002T130000
DTEND;TZID=America/Detroit:20221002T180000
DTSTAMP:20260420T035026
CREATED:20221002T212244Z
LAST-MODIFIED:20221002T212246Z
UID:1773-1664715600-1664733600@blackbottomgunclub.com
SUMMARY:Lunch with Jackie & Fred
DESCRIPTION:
URL:https://blackbottomgunclub.com/event/lunch-with-jackie-fred/
END:VEVENT
BEGIN:VEVENT
DTSTART;TZID=America/Detroit:20221001T120000
DTEND;TZID=America/Detroit:20221001T150000
DTSTAMP:20260420T035026
CREATED:20220814T212241Z
LAST-MODIFIED:20220925T212412Z
UID:1698-1664625600-1664636400@blackbottomgunclub.com
SUMMARY:Cocktail & Conversation
DESCRIPTION:
URL:https://blackbottomgunclub.com/event/cocktail-conversation/
END:VEVENT
BEGIN:VEVENT
DTSTART;TZID=America/New_York:20220922T110000
DTEND;TZID=America/New_York:20220922T120000
DTSTAMP:20260420T035026
CREATED:20220904T212257Z
LAST-MODIFIED:20220918T212253Z
UID:1728-1663844400-1663848000@blackbottomgunclub.com
SUMMARY:MI Gun Violence Prevention Meeting
DESCRIPTION:Join Zoom Meeting \nhttps://us02web.zoom.us/j/89734995559?pwd=TlJsNFVCT2VSR3RTN3NCSlpVWTg1QT09 \n \nMeeting ID: 897 3499 5559 \nPasscode: 577840 \nOne tap mobile \n+16465588656\,\,89734995559# US (New York) \n+13017158592\,\,89734995559# US (Washington DC) \n \nDial by your location \n        +1 646 558 8656 US (New York) \n        +1 301 715 8592 US (Washington DC) \n        +1 312 626 6799 US (Chicago) \n        +1 669 900 6833 US (San Jose) \n        +1 253 215 8782 US (Tacoma) \n        +1 346 248 7799 US (Houston) \nMeeting ID: 897 3499 5559 \nFind your local number: https://us02web.zoom.us/u/kbg3MSCDCJ
URL:https://blackbottomgunclub.com/event/mi-gun-violence-prevention-meeting-53/
LOCATION:https://us02web.zoom.us/j/89734995559?pwd=TlJsNFVCT2VSR3RTN3NCSlpVWTg1QT09
ORGANIZER;CN="lynna@progressmichigan.org":MAILTO:lynna@progressmichigan.org
END:VEVENT
BEGIN:VEVENT
DTSTART;TZID=America/Detroit:20220922T110000
DTEND;TZID=America/Detroit:20220922T120000
DTSTAMP:20260420T035026
CREATED:20220626T203928Z
LAST-MODIFIED:20220918T212253Z
UID:1575-1663844400-1663848000@blackbottomgunclub.com
SUMMARY:MI Gun Violence Prevention Meeting
DESCRIPTION:Join Zoom Meeting \nhttps://us02web.zoom.us/j/89734995559?pwd=TlJsNFVCT2VSR3RTN3NCSlpVWTg1QT09 \n \nMeeting ID: 897 3499 5559 \nPasscode: 577840 \nOne tap mobile \n+16465588656\,\,89734995559# US (New York) \n+13017158592\,\,89734995559# US (Washington DC) \n \nDial by your location \n        +1 646 558 8656 US (New York) \n        +1 301 715 8592 US (Washington DC) \n        +1 312 626 6799 US (Chicago) \n        +1 669 900 6833 US (San Jose) \n        +1 253 215 8782 US (Tacoma) \n        +1 346 248 7799 US (Houston) \nMeeting ID: 897 3499 5559 \nFind your local number: https://us02web.zoom.us/u/kbg3MSCDCJ
URL:https://blackbottomgunclub.com/event/mi-gun-violence-prevention-meeting-28/
LOCATION:https://us02web.zoom.us/j/89734995559?pwd=TlJsNFVCT2VSR3RTN3NCSlpVWTg1QT09
ORGANIZER;CN="lynna@progressmichigan.org":MAILTO:lynna@progressmichigan.org
END:VEVENT
BEGIN:VEVENT
DTSTART;TZID=America/Detroit:20220922T110000
DTEND;TZID=America/Detroit:20220922T120000
DTSTAMP:20260420T035026
CREATED:20220108T235846Z
LAST-MODIFIED:20220619T203839Z
UID:1272-1663844400-1663848000@blackbottomgunclub.com
SUMMARY:MI Gun Violence Prevention Meeting
DESCRIPTION:Join Zoom Meeting \nhttps://us02web.zoom.us/j/89734995559?pwd=TlJsNFVCT2VSR3RTN3NCSlpVWTg1QT09 \n \nMeeting ID: 897 3499 5559 \nPasscode: 577840 \nOne tap mobile \n+16465588656\,\,89734995559# US (New York) \n+13017158592\,\,89734995559# US (Washington DC) \n \nDial by your location \n        +1 646 558 8656 US (New York) \n        +1 301 715 8592 US (Washington DC) \n        +1 312 626 6799 US (Chicago) \n        +1 669 900 6833 US (San Jose) \n        +1 253 215 8782 US (Tacoma) \n        +1 346 248 7799 US (Houston) \nMeeting ID: 897 3499 5559 \nFind your local number: https://us02web.zoom.us/u/kbg3MSCDCJ
URL:https://blackbottomgunclub.com/event/mi-gun-violence-prevention-meeting-4/
LOCATION:https://us02web.zoom.us/j/89734995559?pwd=TlJsNFVCT2VSR3RTN3NCSlpVWTg1QT09
ORGANIZER;CN="lynna@progressmichigan.org":MAILTO:lynna@progressmichigan.org
END:VEVENT
BEGIN:VEVENT
DTSTART;TZID=America/Detroit:20220919T120000
DTEND;TZID=America/Detroit:20220919T160000
DTSTAMP:20260420T035026
CREATED:20220814T212241Z
LAST-MODIFIED:20220918T212253Z
UID:1699-1663588800-1663603200@blackbottomgunclub.com
SUMMARY:Lox retighten
DESCRIPTION:
URL:https://blackbottomgunclub.com/event/lox-retighten/
END:VEVENT
BEGIN:VEVENT
DTSTART;TZID=America/Detroit:20220917T000000
DTEND;TZID=America/Detroit:20220917T235959
DTSTAMP:20260420T035026
CREATED:20220108T235846Z
LAST-MODIFIED:20220911T212247Z
UID:1271-1663372800-1663459199@blackbottomgunclub.com
SUMMARY:Quarterly Community Outreach
DESCRIPTION:Location and Time TBD
URL:https://blackbottomgunclub.com/event/quarterly-community-outreach-3/
END:VEVENT
BEGIN:VEVENT
DTSTART;TZID=America/Detroit:20220915T200000
DTEND;TZID=America/Detroit:20220915T210000
DTSTAMP:20260420T035026
CREATED:20220724T210839Z
LAST-MODIFIED:20220911T212247Z
UID:1634-1663272000-1663275600@blackbottomgunclub.com
SUMMARY:Busy
DESCRIPTION:
URL:https://blackbottomgunclub.com/event/busy-68/
END:VEVENT
BEGIN:VEVENT
DTSTART;TZID=America/Detroit:20220910T110000
DTEND;TZID=America/Detroit:20220910T130000
DTSTAMP:20260420T035026
CREATED:20220108T235846Z
LAST-MODIFIED:20220904T212258Z
UID:1270-1662807600-1662814800@blackbottomgunclub.com
SUMMARY:BBGC Monthly Meeting!!!
DESCRIPTION:Unless noted\, these are members only meetings. Please see the Zoom link and in person location details in your email.
URL:https://blackbottomgunclub.com/event/bbgc-monthly-meeting-8/
END:VEVENT
BEGIN:VEVENT
DTSTART;TZID=America/Detroit:20220908T193000
DTEND;TZID=America/Detroit:20220908T203000
DTSTAMP:20260420T035026
CREATED:20220515T200850Z
LAST-MODIFIED:20220904T212258Z
UID:1499-1662665400-1662669000@blackbottomgunclub.com
SUMMARY:Busy
DESCRIPTION:
URL:https://blackbottomgunclub.com/event/busy-41/
END:VEVENT
BEGIN:VEVENT
DTSTART;TZID=America/Detroit:20220901T190000
DTEND;TZID=America/Detroit:20220901T200000
DTSTAMP:20260420T035026
CREATED:20220108T235846Z
LAST-MODIFIED:20220828T212238Z
UID:1269-1662058800-1662062400@blackbottomgunclub.com
SUMMARY:Busy
DESCRIPTION:
URL:https://blackbottomgunclub.com/event/busy-17/
END:VEVENT
BEGIN:VEVENT
DTSTART;TZID=America/New_York:20220825T110000
DTEND;TZID=America/New_York:20220825T120000
DTSTAMP:20260420T035026
CREATED:20220814T212240Z
LAST-MODIFIED:20220821T212413Z
UID:1697-1661425200-1661428800@blackbottomgunclub.com
SUMMARY:MI Gun Violence Prevention Meeting
DESCRIPTION:Join Zoom Meeting \nhttps://us02web.zoom.us/j/89734995559?pwd=TlJsNFVCT2VSR3RTN3NCSlpVWTg1QT09 \n \nMeeting ID: 897 3499 5559 \nPasscode: 577840 \nOne tap mobile \n+16465588656\,\,89734995559# US (New York) \n+13017158592\,\,89734995559# US (Washington DC) \n \nDial by your location \n        +1 646 558 8656 US (New York) \n        +1 301 715 8592 US (Washington DC) \n        +1 312 626 6799 US (Chicago) \n        +1 669 900 6833 US (San Jose) \n        +1 253 215 8782 US (Tacoma) \n        +1 346 248 7799 US (Houston) \nMeeting ID: 897 3499 5559 \nFind your local number: https://us02web.zoom.us/u/kbg3MSCDCJ
URL:https://blackbottomgunclub.com/event/mi-gun-violence-prevention-meeting-51/
LOCATION:https://us02web.zoom.us/j/89734995559?pwd=TlJsNFVCT2VSR3RTN3NCSlpVWTg1QT09
ORGANIZER;CN="lynna@progressmichigan.org":MAILTO:lynna@progressmichigan.org
END:VEVENT
BEGIN:VEVENT
DTSTART;TZID=America/Detroit:20220825T110000
DTEND;TZID=America/Detroit:20220825T120000
DTSTAMP:20260420T035026
CREATED:20220626T203928Z
LAST-MODIFIED:20220821T212413Z
UID:1574-1661425200-1661428800@blackbottomgunclub.com
SUMMARY:MI Gun Violence Prevention Meeting
DESCRIPTION:Join Zoom Meeting \nhttps://us02web.zoom.us/j/89734995559?pwd=TlJsNFVCT2VSR3RTN3NCSlpVWTg1QT09 \n \nMeeting ID: 897 3499 5559 \nPasscode: 577840 \nOne tap mobile \n+16465588656\,\,89734995559# US (New York) \n+13017158592\,\,89734995559# US (Washington DC) \n \nDial by your location \n        +1 646 558 8656 US (New York) \n        +1 301 715 8592 US (Washington DC) \n        +1 312 626 6799 US (Chicago) \n        +1 669 900 6833 US (San Jose) \n        +1 253 215 8782 US (Tacoma) \n        +1 346 248 7799 US (Houston) \nMeeting ID: 897 3499 5559 \nFind your local number: https://us02web.zoom.us/u/kbg3MSCDCJ
URL:https://blackbottomgunclub.com/event/mi-gun-violence-prevention-meeting-27/
LOCATION:https://us02web.zoom.us/j/89734995559?pwd=TlJsNFVCT2VSR3RTN3NCSlpVWTg1QT09
ORGANIZER;CN="lynna@progressmichigan.org":MAILTO:lynna@progressmichigan.org
END:VEVENT
BEGIN:VEVENT
DTSTART;TZID=America/Detroit:20220825T110000
DTEND;TZID=America/Detroit:20220825T120000
DTSTAMP:20260420T035026
CREATED:20220108T235846Z
LAST-MODIFIED:20220619T203838Z
UID:1268-1661425200-1661428800@blackbottomgunclub.com
SUMMARY:MI Gun Violence Prevention Meeting
DESCRIPTION:Join Zoom Meeting \nhttps://us02web.zoom.us/j/89734995559?pwd=TlJsNFVCT2VSR3RTN3NCSlpVWTg1QT09 \n \nMeeting ID: 897 3499 5559 \nPasscode: 577840 \nOne tap mobile \n+16465588656\,\,89734995559# US (New York) \n+13017158592\,\,89734995559# US (Washington DC) \n \nDial by your location \n        +1 646 558 8656 US (New York) \n        +1 301 715 8592 US (Washington DC) \n        +1 312 626 6799 US (Chicago) \n        +1 669 900 6833 US (San Jose) \n        +1 253 215 8782 US (Tacoma) \n        +1 346 248 7799 US (Houston) \nMeeting ID: 897 3499 5559 \nFind your local number: https://us02web.zoom.us/u/kbg3MSCDCJ
URL:https://blackbottomgunclub.com/event/mi-gun-violence-prevention-meeting-3/
LOCATION:https://us02web.zoom.us/j/89734995559?pwd=TlJsNFVCT2VSR3RTN3NCSlpVWTg1QT09
ORGANIZER;CN="lynna@progressmichigan.org":MAILTO:lynna@progressmichigan.org
END:VEVENT
BEGIN:VEVENT
DTSTART;TZID=America/Detroit:20220820T120000
DTEND;TZID=America/Detroit:20220820T180000
DTSTAMP:20260420T035026
CREATED:20220626T203928Z
LAST-MODIFIED:20220814T212241Z
UID:1571-1660996800-1661018400@blackbottomgunclub.com
SUMMARY:BBGC Annual Meet-N-Greet-N-Shoot
DESCRIPTION:
URL:https://blackbottomgunclub.com/event/bbgc-annual-meet-n-greet-n-shoot/
LOCATION:Century Gun Club\, 8375 W. Newburg Road\, Carleton\, MI 48117\, USA
END:VEVENT
BEGIN:VEVENT
DTSTART;TZID=America/Detroit:20220820T120000
DTEND;TZID=America/Detroit:20220820T180000
DTSTAMP:20260420T035026
CREATED:20220626T203928Z
LAST-MODIFIED:20220814T212241Z
UID:1573-1660996800-1661018400@blackbottomgunclub.com
SUMMARY:BBGC Annual Meet-N-Greet-N-Shoot
DESCRIPTION:
URL:https://blackbottomgunclub.com/event/bbgc-annual-meet-n-greet-n-shoot-2/
LOCATION:Century Gun Club\, 8375 W. Newburg Road\, Carleton\, MI 48117\, USA
END:VEVENT
BEGIN:VEVENT
DTSTART;TZID=America/Detroit:20220818T200000
DTEND;TZID=America/Detroit:20220818T210000
DTSTAMP:20260420T035026
CREATED:20220724T210839Z
LAST-MODIFIED:20220814T212241Z
UID:1633-1660852800-1660856400@blackbottomgunclub.com
SUMMARY:Busy
DESCRIPTION:
URL:https://blackbottomgunclub.com/event/busy-67/
END:VEVENT
BEGIN:VEVENT
DTSTART;TZID=America/Detroit:20220817T110000
DTEND;TZID=America/Detroit:20220817T150000
DTSTAMP:20260420T035026
CREATED:20220814T212240Z
LAST-MODIFIED:20220814T212241Z
UID:1696-1660734000-1660748400@blackbottomgunclub.com
SUMMARY:Meet with Tiffani
DESCRIPTION:
URL:https://blackbottomgunclub.com/event/meet-with-tiffani/
LOCATION:Starbucks\, Downtown Farmington Center\, 33199 Grand River Ave F2\, Farmington\, MI 48336\, USA
END:VEVENT
BEGIN:VEVENT
DTSTART;TZID=America/Detroit:20220815T160000
DTEND;TZID=America/Detroit:20220815T170000
DTSTAMP:20260420T035026
CREATED:20220814T212240Z
LAST-MODIFIED:20220814T212241Z
UID:1694-1660579200-1660582800@blackbottomgunclub.com
SUMMARY:Meet with Lexi
DESCRIPTION:
URL:https://blackbottomgunclub.com/event/meet-with-lexi/
END:VEVENT
BEGIN:VEVENT
DTSTART;TZID=America/Detroit:20220815T100000
DTEND;TZID=America/Detroit:20220815T150000
DTSTAMP:20260420T035026
CREATED:20220814T212240Z
LAST-MODIFIED:20220814T212241Z
UID:1693-1660557600-1660575600@blackbottomgunclub.com
SUMMARY:Meet with Mary JPM
DESCRIPTION:
URL:https://blackbottomgunclub.com/event/meet-with-mary-jpm/
END:VEVENT
BEGIN:VEVENT
DTSTART;TZID=America/Detroit:20220813T110000
DTEND;TZID=America/Detroit:20220813T130000
DTSTAMP:20260420T035026
CREATED:20220108T235846Z
LAST-MODIFIED:20220807T212239Z
UID:1267-1660388400-1660395600@blackbottomgunclub.com
SUMMARY:BBGC Monthly Meeting!!!
DESCRIPTION:Unless noted\, these are members only meetings. Please see the Zoom link and in person location details in your email.
URL:https://blackbottomgunclub.com/event/bbgc-monthly-meeting-7/
END:VEVENT
BEGIN:VEVENT
DTSTART;TZID=America/Detroit:20220811T193000
DTEND;TZID=America/Detroit:20220811T203000
DTSTAMP:20260420T035026
CREATED:20220515T200850Z
LAST-MODIFIED:20220807T212239Z
UID:1498-1660246200-1660249800@blackbottomgunclub.com
SUMMARY:Busy
DESCRIPTION:
URL:https://blackbottomgunclub.com/event/busy-40/
END:VEVENT
BEGIN:VEVENT
DTSTART;TZID=America/Detroit:20220806T000000
DTEND;TZID=America/Detroit:20220807T235959
DTSTAMP:20260420T035026
CREATED:20220108T235846Z
LAST-MODIFIED:20220807T212239Z
UID:1266-1659744000-1659916799@blackbottomgunclub.com
SUMMARY:2 Day Pistol with instructor TBD
DESCRIPTION:
URL:https://blackbottomgunclub.com/event/2-day-pistol-with-super-dave-harrington-tentative/
LOCATION:Century Gun Club\, 8375 W Newburg Rd\, Carleton\, MI 48117\, USA
END:VEVENT
END:VCALENDAR